BEGIN:VCALENDAR
VERSION:2.0
PRODID:-//IMA Research - ECPv6.15.6//NONSGML v1.0//EN
CALSCALE:GREGORIAN
METHOD:PUBLISH
X-WR-CALNAME:IMA Research
X-ORIGINAL-URL:https://imaresearch.com
X-WR-CALDESC:Events for IMA Research
REFRESH-INTERVAL;VALUE=DURATION:PT1H
X-Robots-Tag:noindex
X-PUBLISHED-TTL:PT1H
BEGIN:VTIMEZONE
TZID:America/New_York
BEGIN:DAYLIGHT
TZOFFSETFROM:-0500
TZOFFSETTO:-0400
TZNAME:EDT
DTSTART:20240310T070000
END:DAYLIGHT
BEGIN:STANDARD
TZOFFSETFROM:-0400
TZOFFSETTO:-0500
TZNAME:EST
DTSTART:20241103T060000
END:STANDARD
BEGIN:DAYLIGHT
TZOFFSETFROM:-0500
TZOFFSETTO:-0400
TZNAME:EDT
DTSTART:20250309T070000
END:DAYLIGHT
BEGIN:STANDARD
TZOFFSETFROM:-0400
TZOFFSETTO:-0500
TZNAME:EST
DTSTART:20251102T060000
END:STANDARD
BEGIN:DAYLIGHT
TZOFFSETFROM:-0500
TZOFFSETTO:-0400
TZNAME:EDT
DTSTART:20260308T070000
END:DAYLIGHT
BEGIN:STANDARD
TZOFFSETFROM:-0400
TZOFFSETTO:-0500
TZNAME:EST
DTSTART:20261101T060000
END:STANDARD
END:VTIMEZONE
BEGIN:VEVENT
DTSTART;VALUE=DATE:20251102
DTEND;VALUE=DATE:20251106
DTSTAMP:20260425T062721
CREATED:20250903T205217Z
LAST-MODIFIED:20251010T154539Z
UID:6408-1762041600-1762387199@imaresearch.com
SUMMARY:CNS Summit 2025 - Boston\, MA
DESCRIPTION:
URL:https://imaresearch.com/event/cns-summit-2025-boston-ma/
LOCATION:Encore Boston Harbor\, 1 Broadway\, Everett\, MA\, 02149\, United States
ATTACH;FMTTYPE=image/jpeg:https://imaresearch.com/wp-content/uploads/2025/09/CNS-backdrop-e1756991300762.jpeg
END:VEVENT
END:VCALENDAR